BEGIN:VCALENDAR
VERSION:2.0
PRODID:-//ChamberMaster//Event Calendar 2.0//EN
METHOD:PUBLISH
X-PUBLISHED-TTL:P3D
REFRESH-INTERVAL:P3D
CALSCALE:GREGORIAN
BEGIN:VEVENT
DTSTART;VALUE=DATE:20120221
DTEND;VALUE=DATE:20120222
TRANSP:TRANSPARENT
X-MICROSOFT-CDO-ALLDAYEVENT:TRUE
SUMMARY:Fat Tuesday at the Chicago Brauhaus
DESCRIPTION:Fat Tuesday Crazy Hat Night Mardi Gras Party\n\n\n\nwith\n\n\n\nRuss Phillips and his Windy City Jazz Ensemble featuring vocalist Jeannie Lambert!\n\n\n\nSpecial Mardi Gras Menu\n\n\n\nPrizes for Best Costumes or Crazy Hats
X-ALT-DESC;FMTTYPE=text/html:Fat Tuesday Crazy Hat Night Mardi Gras Party<br />\n<br />\nwith<br />\n<br />\nRuss Phillips and his Windy City Jazz Ensemble featuring vocalist Jeannie Lambert!<br />\n<br />\nSpecial Mardi Gras Menu<br />\n<br />\nPrizes for Best Costumes or Crazy Hats
LOCATION:4732 N. Lincoln Avenue
UID:e.697.2475
SEQUENCE:3
DTSTAMP:20260420T032320Z
URL:https://www.lincolnsquare.org/events/details/fat-tuesday-at-the-chicago-brauhaus-2475
END:VEVENT

END:VCALENDAR
