BEGIN:VCALENDAR
VERSION:2.0
PRODID:-//ChamberMaster//Event Calendar 2.0//EN
METHOD:PUBLISH
X-PUBLISHED-TTL:P3D
REFRESH-INTERVAL:P3D
CALSCALE:GREGORIAN
BEGIN:VEVENT
DTSTART:20110604T170000Z
DTEND:20110604T183000Z
X-MICROSOFT-CDO-ALLDAYEVENT:FALSE
SUMMARY:First Time Homebuyers' Work Shop
DESCRIPTION:Please RSVP to James Barclay.  Lunch will be served.
X-ALT-DESC;FMTTYPE=text/html:Please RSVP to James Barclay.&nbsp\; Lunch will be served.
LOCATION:DreamTown Realty 4553 N. Lincoln Ave Chicago\, IL 60625
UID:e.697.902
SEQUENCE:3
DTSTAMP:20260420T155839Z
URL:https://www.lincolnsquare.org/events/details/first-time-homebuyers-work-shop-902
END:VEVENT

END:VCALENDAR
