BEGIN:VCALENDAR
VERSION:2.0
PRODID:-//ChamberMaster//Event Calendar 2.0//EN
METHOD:PUBLISH
X-PUBLISHED-TTL:P3D
REFRESH-INTERVAL:P3D
CALSCALE:GREGORIAN
BEGIN:VEVENT
DTSTART:20120629T143000Z
DTEND:20120629T200000Z
X-MICROSOFT-CDO-ALLDAYEVENT:FALSE
SUMMARY:Free Tax Counseling for Small Businesses
DESCRIPTION:On May 25th\, June 29th\, and July 27th\, the Internal Revenue Service (IRS) will be at the Small Business Solution Station. The IRS will have bilingual (Spanish/English) staff on hand for free one-on-one consultation for small business owners on all tax-related matters.\n\n	In addition to that the City of Chicago offers One-on-One Business Counseling- for Small Businesses @ The Small Business Solution Station\n\n	This is where you can talk to an expert about a small business loan\, ask legal questions or just get expert advice.  The Small Business Solution Station offers free one-on-one business counseling for entrepreneurs. The Solution Station is open Tuesday\, Wednesday and Thursday from 9:30-3:00. Counseling is provided by our partner organizations\, ACCION Chicago\, SCORE and the Law Project. An appointment is not required\, but can be arranged by calling 312-744-2086.
X-ALT-DESC;FMTTYPE=text/html:<p>\n	On May <span>25th</span>\, June <span>29th</span>\, and July <span>27th</span>\, the Internal Revenue Service (IRS)&nbsp\;will be at the Small Business Solution Station. The IRS will have bilingual (Spanish/English) staff on hand for free one-on-one consultation for small business owners on all tax-related matters.</p>\n<p>\n	<strong>In addition to that the City of Chicago offers One-on-One Business Counseling- for Small Businesses @ The Small Business Solution Station</strong></p>\n<p>\n	This is where you can talk to an expert about a small business loan\, ask legal questions or&nbsp\;just get expert advice.&nbsp\; The <a href="http://www.cityofchicago.org/content/dam/city/depts/bacp/Outreach%20and%20Education/solutionstationflyer22212.pdf" target="_self" title="Small Business Solution Station">Small Business Solution Station</a> offers free one-on-one business counseling for entrepreneurs. The Solution Station is open Tuesday\, Wednesday and&nbsp\;Thursday from 9:30-3:00. Counseling is provided by our partner organizations\,&nbsp\;ACCION Chicago\, SCORE and the Law Project. An appointment is not required\, but can be arranged by calling 312-744-2086.</p>\n
LOCATION:@ BACP inside City Hall- Business Assistance Center 121 N. LaSalle St. in room 800
UID:e.697.3561
SEQUENCE:3
DTSTAMP:20260419T222238Z
URL:https://www.lincolnsquare.org/events/details/free-tax-counseling-for-small-businesses-3561
END:VEVENT

END:VCALENDAR
