BEGIN:VCALENDAR
VERSION:2.0
PRODID:-//ChamberMaster//Event Calendar 2.0//EN
METHOD:PUBLISH
X-PUBLISHED-TTL:P3D
REFRESH-INTERVAL:P3D
CALSCALE:GREGORIAN
BEGIN:VEVENT
DTSTART:20120612T230000Z
DTEND:20120613T010000Z
X-MICROSOFT-CDO-ALLDAYEVENT:FALSE
SUMMARY:Friends of Amundson Fundraiser
DESCRIPTION:Join the newly formed "Friends of Amundsen" at The Rail 4709 N. Damen Ave.  Help raise funds for the students of Amundsen High School!
X-ALT-DESC;FMTTYPE=text/html:Join the newly formed &quot\;Friends of Amundsen&quot\; at The Rail 4709 N. Damen Ave.&nbsp\; Help raise funds for the students of Amundsen High School!&nbsp\;&nbsp\;&nbsp\;&nbsp\;
LOCATION:The Rail\, 4709 N. Damen Ave.
UID:e.697.3558
SEQUENCE:3
DTSTAMP:20260419T204429Z
URL:https://www.lincolnsquare.org/events/details/friends-of-amundson-fundraiser-3558
END:VEVENT

END:VCALENDAR
