BEGIN:VCALENDAR
VERSION:2.0
PRODID:-//ChamberMaster//Event Calendar 2.0//EN
METHOD:PUBLISH
X-PUBLISHED-TTL:P3D
REFRESH-INTERVAL:P3D
CALSCALE:GREGORIAN
BEGIN:VEVENT
DTSTART:20110630T233000Z
DTEND:20110701T013000Z
X-MICROSOFT-CDO-ALLDAYEVENT:FALSE
SUMMARY:Gainer/Fritchey Property Assessment Workshop
DESCRIPTION:Join Cook County Commissioners Bridget Gainer and John Fritchey at a workshop this Thursday evening for Lake View Township homeowners. Speak with representatives from the Assessor's office regarding the assessed value of your home and find out if you qualify for money-saving exemptions that can lower your property tax bill.
X-ALT-DESC;FMTTYPE=text/html:<p>\n	<span style="font-size: 12px"><span style="font-family: arial">Join Cook County Commissioners Bridget Gainer and John Fritchey at a workshop this&nbsp\;Thursday evening for Lake View Township homeowners. Speak with representatives from the Assessor&rsquo\;s office regarding the assessed value of your home and find out if you qualify for money-saving exemptions that can lower your property tax bill.&nbsp\;&nbsp\;</span></span><br />\n	&nbsp\;</p>\n
LOCATION:Sulzer Library Auditorium (4455 N Lincoln Avenue)
UID:e.697.1059
SEQUENCE:3
DTSTAMP:20260420T155928Z
URL:https://www.lincolnsquare.org/events/details/gainer-fritchey-property-assessment-workshop-1059
END:VEVENT

END:VCALENDAR
