BEGIN:VCALENDAR
VERSION:2.0
PRODID:-//ChamberMaster//Event Calendar 2.0//EN
METHOD:PUBLISH
X-PUBLISHED-TTL:P3D
REFRESH-INTERVAL:P3D
CALSCALE:GREGORIAN
BEGIN:VEVENT
DTSTART:20110822T233000Z
DTEND:20110823T013000Z
X-MICROSOFT-CDO-ALLDAYEVENT:FALSE
SUMMARY:Game Night at the Sulzer Library
DESCRIPTION:Stop by the Sulzer Library on Monday\, August 22  for Game Night At The Library.\n\nThe fun starts at 6:30pm and lasts through 8:30pm. Board games and card games are available for all ages.
X-ALT-DESC;FMTTYPE=text/html:<span style="color: black"><span style="font-family: helvetica\, sans-serif"><span style="font-size: medium">Stop by the Sulzer Library on Monday\, August 22&nbsp\; for <strong>Game Night At The Library.<br />\nThe fun starts at&nbsp\;</strong>6:30pm and lasts through 8:30pm. Board games and card games are available&nbsp\;for all ages.</span></span></span><br />\n
LOCATION:Sulzer Library 4455 N. Lincoln Avenue
UID:e.697.1342
SEQUENCE:3
DTSTAMP:20260420T122854Z
URL:https://www.lincolnsquare.org/events/details/game-night-at-the-sulzer-library-1342
END:VEVENT

END:VCALENDAR
