BEGIN:VCALENDAR
VERSION:2.0
PRODID:-//ChamberMaster//Event Calendar 2.0//EN
METHOD:PUBLISH
X-PUBLISHED-TTL:P3D
REFRESH-INTERVAL:P3D
CALSCALE:GREGORIAN
BEGIN:VEVENT
DTSTART:20111203T150000Z
DTEND:20111203T210000Z
X-MICROSOFT-CDO-ALLDAYEVENT:FALSE
SUMMARY:Gateway's Holiday Bake Sale and Arts & Crafts Fair
DESCRIPTION:Gateway's Holiday\n\n	Bake Sale and Arts & Crafts Fair\n\n	 \n\n	4925 N. Lincoln Avenue\n\n	773-784-3200\n\n	\n\n	Saturday\, December 3\, 2011\n\n	9:00am - 3:00pm\n\n	 \n\n	\n		Array of Arts and Crafts\n	\n		Homebaked Specialties\n	\n		Hand-dipped & Assorted candies\n	\n		Our Famous Cheese Spreads\n\n\n	\n\n	Shop - Browse - Enjoy Lunch and Dessert Treats
X-ALT-DESC;FMTTYPE=text/html:<p style="text-align: center">\n	&nbsp\;</p>\n<p style="text-align: center">\n	<span style="font-family: comic sans ms"><strong><span style="font-size: 16px">Gateway&#39\;s Holiday<br />\n	Bake Sale and Arts &amp\; Crafts Fair</span></strong></span><br />\n	&nbsp\;</p>\n<p style="text-align: center">\n	<strong>4925 N. Lincoln Avenue<br />\n	773-784-3200<br />\n	<br />\n	Saturday\, December 3\, 2011<br />\n	9:00am - 3:00pm</strong><br />\n	&nbsp\;</p>\n<ul>\n	<li style="text-align: center">\n		Array of Arts and Crafts</li>\n	<li style="text-align: center">\n		Homebaked Specialties</li>\n	<li style="text-align: center">\n		Hand-dipped &amp\; Assorted candies</li>\n	<li style="text-align: center">\n		Our Famous Cheese Spreads</li>\n</ul>\n<p style="text-align: center">\n	<br />\n	Shop - Browse - Enjoy Lunch and Dessert Treats</p>\n
LOCATION:4925 N. Lincoln Avenue
UID:e.697.2219
SEQUENCE:3
DTSTAMP:20260420T061628Z
URL:https://www.lincolnsquare.org/events/details/gateway-s-holiday-bake-sale-and-arts-crafts-fair-2219
END:VEVENT

END:VCALENDAR
