BEGIN:VCALENDAR
VERSION:2.0
PRODID:-//ChamberMaster//Event Calendar 2.0//EN
METHOD:PUBLISH
X-PUBLISHED-TTL:P3D
REFRESH-INTERVAL:P3D
CALSCALE:GREGORIAN
BEGIN:VEVENT
DTSTART:20101204T150000Z
DTEND:20101205T030000Z
X-MICROSOFT-CDO-ALLDAYEVENT:FALSE
SUMMARY:Gateway's Holiday Bake Sale and Arts & Crafts Fair
DESCRIPTION:Array of Arts & Crafts Vendors\n\nHomebaked Specialties\n\nHand-Dipped & Assorted Candies\n\nOur Famous Cheese Spreads
X-ALT-DESC;FMTTYPE=text/html:Array of Arts &amp\; Crafts Vendors\n<br>Homebaked Specialties\n<br>Hand-Dipped &amp\; Assorted Candies\n<br>Our Famous Cheese Spreads
LOCATION:Gateway to Learning 4925 N. Lincoln
UID:e.697.685
SEQUENCE:3
DTSTAMP:20260421T034234Z
URL:https://www.lincolnsquare.org/events/details/gateway-s-holiday-bake-sale-and-arts-crafts-fair-685
END:VEVENT

END:VCALENDAR
