BEGIN:VCALENDAR
VERSION:2.0
PRODID:-//ChamberMaster//Event Calendar 2.0//EN
METHOD:PUBLISH
X-PUBLISHED-TTL:P3D
REFRESH-INTERVAL:P3D
CALSCALE:GREGORIAN
BEGIN:VEVENT
DTSTART:20111015T170000Z
DTEND:20111015T210000Z
X-MICROSOFT-CDO-ALLDAYEVENT:FALSE
SUMMARY:Gene's Sausage Shop Fall Wine Tasting
DESCRIPTION:Gene's Sausage Shop\n\n	Fall Wine Tasting\,\n\n	Saturday\, Oct. 15th\, 12-4PM\n\n	\n\n	Take in the last days of gorgeous Chicago fall weather this weekend\, stroll Lincoln Square and stop by Gene's Sausage Shop for a unique tasting this Saturday.\n\n	\n\n	Featured wines include:\n\n	\n\n	Charles Smith 2009 Chardonnay "Eve"\n\n	\n\n	La Posta 2008 Malbec\, Angel Paulucci Vineyard\n\n	\n\n	Pi'nouf 2009 Languedoc (FEATURED OCT. 1ST-21ST)\, buy 4 bottles of any Languedoc region wine and get 10% off each bottle\, including this one!\n\n	\n\n	Cheers!\n\n	\n\n	***Also visit our open-air rooftop before you leave\, complete with 4 beers on tap\, red/white wine\, sparkling and sausage grill hut!
X-ALT-DESC;FMTTYPE=text/html:<p>\n	<span style="font-family: verdana"><span style="font-size: 12px"><span class="messageBody translationEligibleUserMessage" data-ft="{"><span style="color: #a52a2a"><span style="font-size: 16px"><strong>Gene&#39\;s Sausage Shop<br />\n	Fall Wine Tasting\,<br />\n	<em>Saturday\, Oct. 15th\, 12-4PM</em></strong></span></span><br />\n	<br />\n	<span style="color: #000000">Take in the last days of gorgeous Chicago fall weather this weekend\, stroll Lincoln Square and stop by Gene&#39\;s Sausage Shop for a unique tasting this Saturday.<br />\n	<br />\n	<u><strong>Featured wines include:</strong></u><br />\n	<br />\n	<span class="text_exposed_show">Charles Smith 2009 Chardonnay &quot\;Eve&quot\;<br />\n	<br />\n	La Posta 2008 Malbec\, Angel Paulucci Vineyard<br />\n	<br />\n	Pi&#39\;nouf 2009 Languedoc (FEATURED OCT. 1ST-21ST)\, buy 4 bottles of any Languedoc region wine and get 10% off each bottle\, including this one!<br />\n	<br />\n	Cheers!<br />\n	<br />\n	<em>***Also visit our open-air rooftop before you leave\, complete with 4 beers on tap\, red/white wine\, sparkling and sausage grill hut!</em></span></span></span></span></span></p>\n
LOCATION:Gene's Sausage Shop 4750 N. Lincoln Avenue
UID:e.697.2161
SEQUENCE:3
DTSTAMP:20260420T094620Z
URL:https://www.lincolnsquare.org/events/details/gene-s-sausage-shop-fall-wine-tasting-2161
END:VEVENT

END:VCALENDAR
