BEGIN:VCALENDAR
VERSION:2.0
PRODID:-//ChamberMaster//Event Calendar 2.0//EN
METHOD:PUBLISH
X-PUBLISHED-TTL:P3D
REFRESH-INTERVAL:P3D
CALSCALE:GREGORIAN
BEGIN:VEVENT
DTSTART:20110403T170000Z
DTEND:20110403T220000Z
X-MICROSOFT-CDO-ALLDAYEVENT:FALSE
SUMMARY:German Chicago Now
DESCRIPTION:Chicago is famous for its ethnic neighborhoods - and Navy Pier is\n\n	proud to honor the city's German community and historic Lincoln\n\n	Square with this first ever cultural celebration. Join us for a lively\n\n	afternoon of music\, dance\, colorful costumes\, authentic cuisine\,\n\n	and local vendors selling folk arts.\n\n	Featuring performances by Paloma Band\, Pieptone!\, Fanfaren\n\n	Corps of Chicago\, Egerlander Tanzgruppe\, Schuhplattler Dancers\,\n\n	and much more!
X-ALT-DESC;FMTTYPE=text/html:<p align="left">\n	<span style="font-size: 12px"><font face="Gotham-Book"><font face="Gotham-Book">Chicago is famous for its ethnic neighborhoods - and Navy Pier is</font></font></span></p>\n<p align="left">\n	<span style="font-size: 12px"><font face="Gotham-Book"><font face="Gotham-Book">proud to honor the city&#39\;s German community and historic Lincoln</font></font></span></p>\n<p align="left">\n	<span style="font-size: 12px"><font face="Gotham-Book"><font face="Gotham-Book">Square with this first ever cultural celebration. Join us for a lively</font></font></span></p>\n<p align="left">\n	<span style="font-size: 12px"><font face="Gotham-Book"><font face="Gotham-Book">afternoon of music\, dance\, colorful costumes\, authentic cuisine\,</font></font></span></p>\n<p align="left">\n	<span style="font-size: 12px"><font face="Gotham-Book"><font face="Gotham-Book">and local vendors selling folk arts.</font></font></span></p>\n<p align="left">\n	<span style="font-size: 12px"><font face="Gotham-Book"><font face="Gotham-Book">Featuring performances by Paloma Band\, Pieptone!\, Fanfaren</font></font></span></p>\n<p align="left">\n	<span style="font-size: 12px"><font face="Gotham-Book"><font face="Gotham-Book">Corps of Chicago\, Egerlander Tanzgruppe\, Schuhplattler Dancers\,</font></font></span></p>\n<p>\n	<span style="font-size: 12px"><font face="Gotham-Book"><font face="Gotham-Book">and much more!</font></font></span><font face="Gotham-Book" size="6"><font face="Gotham-Book" size="6"><span _fck_bookmark="1" style="display: none">&nbsp\;</span></font></font></p>\n
LOCATION:Sunday\, April 3\, 2011 12pm to 5pm Navy Pier's Crystal Gardens 600 E. Grand Ave. Chicago IL 60611 Free Admission!
UID:e.697.769
SEQUENCE:3
DTSTAMP:20260420T193546Z
URL:https://www.lincolnsquare.org/events/details/german-chicago-now-769
END:VEVENT

END:VCALENDAR
