BEGIN:VCALENDAR
VERSION:2.0
PRODID:-//ChamberMaster//Event Calendar 2.0//EN
METHOD:PUBLISH
X-PUBLISHED-TTL:P3D
REFRESH-INTERVAL:P3D
CALSCALE:GREGORIAN
BEGIN:VEVENT
DTSTART:20101023T003000Z
DTEND:20101023T023000Z
X-MICROSOFT-CDO-ALLDAYEVENT:FALSE
SUMMARY:German Cinema Now - Die Welle
DESCRIPTION:Contemporary German films with English Subtitles\n\nFree admisson & popcorn\n\nPretzel\, Bier und LandJäger available
X-ALT-DESC;FMTTYPE=text/html:Contemporary German films with English Subtitles\n<br>Free admisson & popcorn\n<br>Pretzel\, Bier und LandJäger available
LOCATION:
UID:e.697.597
SEQUENCE:3
DTSTAMP:20260421T050612Z
URL:https://www.lincolnsquare.org/events/details/german-cinema-now-597
END:VEVENT

END:VCALENDAR
