BEGIN:VCALENDAR
VERSION:2.0
PRODID:-//ChamberMaster//Event Calendar 2.0//EN
METHOD:PUBLISH
X-PUBLISHED-TTL:P3D
REFRESH-INTERVAL:P3D
CALSCALE:GREGORIAN
BEGIN:VEVENT
DTSTART:20120526T003000Z
DTEND:20120526T033000Z
X-MICROSOFT-CDO-ALLDAYEVENT:FALSE
SUMMARY:German Cinema Now: Deutschland: Ein Sommermärchen/Germany: A Summer's Tale
DESCRIPTION:Contemporary German films with English subtitles. FREE admission!\n\n\n\nHas it really been 6 summers since soccer fever gripped Germany\, and the nation united behind its team as it hosted the 2006 FIFA World Cup? Join us as we look back at one magical summer for Germany\, as another is about to begin with EURO 2012\, starting June 9.\n\n\n\nFilmmaker S nke Wortmann (The Miracle of Bern) was granted full behind-the-scenes access and his camera follows the German national team's World Cup 2006 journey\, all the way from boot camp in Sardinia to the 3rd-place match. The film became the highest-grossing documentary in German film history.\n\n\n\nNot only will you see the on-field exploits of Klose\, Podolski and Schweinsteiger\, but also the hours of high-tech preparation by the players and coaching staff (led by current U.S. coach J rgen Klinsmann) as well as all the "little things" that have to be decided--how DO you choose a team hotel anyway?\n\n\n\nNever released theatrically in the U.S.\, Deutschland: Ein Sommerm rchen is a rare opportunity to relive one of modern Germany's most important cultural moments.\n\n\n\nPopcorn $2\, Pretzel $2\, Landjaeger $3. Cash bar.\n\nFREE parking at MB Financial Bank at Western and Gunnison.
X-ALT-DESC;FMTTYPE=text/html:<br />\nContemporary German films with English subtitles. FREE admission!<br />\n<br />\nHas it really been 6 summers since soccer fever gripped Germany\, and the nation united behind its team as it hosted the 2006 FIFA World Cup? Join us as we look back at one magical summer for Germany\, as another is about to begin with EURO 2012\, starting June 9.<br />\n<br />\nFilmmaker S&ouml\;nke Wortmann (The Miracle of Bern) was granted full behind-the-scenes access and his camera follows the German national team&#39\;s World Cup 2006 journey\, all the way from boot camp in Sardinia to the 3rd-place match. The film became the highest-grossing documentary in German film history.<br />\n<br />\nNot only will you see the on-field exploits of Klose\, Podolski and Schweinsteiger\, but also the hours of high-tech preparation by the players and coaching staff (led by current U.S. coach J&uuml\;rgen Klinsmann) as well as all the &quot\;little things&quot\; that have to be decided--how DO you choose a team hotel anyway?<br />\n<br />\nNever released theatrically in the U.S.\, Deutschland: Ein Sommerm&auml\;rchen is a rare opportunity to relive one of modern Germany&#39\;s most important cultural moments.<br />\n<br />\nPopcorn $2\, Pretzel $2\, Landjaeger $3. Cash bar.<br />\nFREE parking at MB Financial Bank at Western and Gunnison. 
LOCATION:DANK Haus 4740 N. Western Ave\, 6th floor
UID:e.697.2500
SEQUENCE:3
DTSTAMP:20260419T222048Z
URL:https://www.lincolnsquare.org/events/details/german-cinema-now-deutschland-ein-sommerm&#228;rchen-germany-a-summer-s-tale-2500
END:VEVENT

END:VCALENDAR
