BEGIN:VCALENDAR
VERSION:2.0
PRODID:-//ChamberMaster//Event Calendar 2.0//EN
METHOD:PUBLISH
X-PUBLISHED-TTL:P3D
REFRESH-INTERVAL:P3D
CALSCALE:GREGORIAN
BEGIN:VEVENT
DTSTART:20110924T003000Z
DTEND:20110924T030000Z
X-MICROSOFT-CDO-ALLDAYEVENT:FALSE
SUMMARY:German Cinema Now - Vitus
DESCRIPTION:Contemporary German films with English subtitles. FREE admission!\n\n			\n\n			Vitus is a Swiss masterpiece about a gifted child pianist and his navigation through the world.\n\n			\n\n			Popcorn $2\, Pretzel $2\, Landjaeger $3. Cash bar.\n\n			FREE parking at MB Financial Bank at Western and Gunnison.
X-ALT-DESC;FMTTYPE=text/html:<ul id="events-secondary" style="list-style-type:square\;">\n	<li>\n		<p>\n			Contemporary German films with English subtitles. FREE admission!<br />\n			<br />\n			Vitus is a Swiss masterpiece about a gifted child pianist and his navigation through the world.<br />\n			<br />\n			Popcorn $2\, Pretzel $2\, Landjaeger $3. Cash bar.<br />\n			FREE parking at MB Financial Bank at Western and Gunnison.</p>\n	</li>\n</ul>\n
LOCATION:4740 N Western Ave
UID:e.697.1909
SEQUENCE:3
DTSTAMP:20260420T112037Z
URL:https://www.lincolnsquare.org/events/details/german-cinema-now-vitus-1909
END:VEVENT

END:VCALENDAR
