BEGIN:VCALENDAR
VERSION:2.0
PRODID:-//ChamberMaster//Event Calendar 2.0//EN
METHOD:PUBLISH
X-PUBLISHED-TTL:P3D
REFRESH-INTERVAL:P3D
CALSCALE:GREGORIAN
BEGIN:VEVENT
DTSTART:20120721T003000Z
DTEND:20120721T030000Z
X-MICROSOFT-CDO-ALLDAYEVENT:FALSE
SUMMARY:German Stammtisch @ the DANK-Haus
DESCRIPTION:Enjoy great German bier\, food and gem tlichkeit in the DANK Haus with stunning city views.\n\n\n\n\n	July celebrates the vacation destination 3\,000\,000 Germans descend upon - Mallorca
X-ALT-DESC;FMTTYPE=text/html:<span style="font-size: 10pt\;">Enjoy great German bier\, food and gem&uuml\;tlichkeit in the DANK Haus with stunning city views.</span><br />\n<br />\n<div>\n	<span style="font-size: 10pt\;">July celebrates the vacation destination 3\,000\,000 Germans descend upon - <a href="http://r20.rs6.net/tn.jsp?e=0014pVm1FQUA-RbxXZ07yFi719DiczfCbfcA8NmJZBa0mrBMb747p6AmspO30V6m0oLL1wGE0jBDMGV_0BLdggvgqhQqaavaoBx1moJSoUiWTprOitTFMYqxRfCuWv6A7ANRTR-YV6sQj9WDq0C3YuRd948cu-hMrdeYvnA1acc6IhXpvm3oq0DG37NlT6tlJ_XPdYMgFX5GEo0ilSH2cXVX8qtW4DqXZdN9SWvIdaOlCYvRpDhDTRRXJjhGA80JXbA" shape="rect" style="color: rgb(0\, 0\, 255)\; text-decoration: underline\;" target="_blank" title="This external link will open in a new window">Mallorca</a> </span></div>\n
LOCATION:4740 N Western Ave.
UID:e.697.3603
SEQUENCE:3
DTSTAMP:20260419T202547Z
URL:https://www.lincolnsquare.org/events/details/german-stammtisch-the-dank-haus-3603
END:VEVENT

END:VCALENDAR
