BEGIN:VCALENDAR
VERSION:2.0
PRODID:-//ChamberMaster//Event Calendar 2.0//EN
METHOD:PUBLISH
X-PUBLISHED-TTL:P3D
REFRESH-INTERVAL:P3D
CALSCALE:GREGORIAN
BEGIN:VEVENT
DTSTART:20100418T150000Z
DTEND:20100418T190000Z
X-MICROSOFT-CDO-ALLDAYEVENT:FALSE
SUMMARY:Go Green & Go Home!
DESCRIPTION:Stop by the gym after Mass on Sunday\,  April 18\,  10 am to 2 pm\, for Go Green and Go Home\, a green merchant and educational fair hosted by our Environmental Club.  Buy "earth-friendly" products from stores like Baby Bum\, Ravensgoods and Shaklee.  Plus\, our students will share valuable tips on gardening\, composting\, rainfall catches and more so that you can "go green and and go home."  The event is free and proceeds from vendors benefit St. Matthias Environmental Club\,  raising money for green initiatives in our school.
X-ALT-DESC;FMTTYPE=text/html:<div><span style="font-size: 11pt\; language: en">Stop by the gym after Mass on Sunday\,&nbsp\; April 18\,&nbsp\; 10 am to 2 pm\, for Go Green and Go Home\, a green merchant and educational fair hosted by our Environmental Club.&nbsp\; Buy </span><span style="font-size: 11pt\; font-weight: bold\; language: en">&ldquo\;</span><span style="font-size: 11pt\; language: en">earth-friendly</span><span style="font-size: 11pt\; font-weight: bold\; language: en">&rdquo\;</span><span style="font-size: 11pt\; language: en"> products from stores like Baby Bum\, Ravensgoods and Shaklee.&nbsp\; Plus\, our students will share valuable tips on gardening\, composting\, rainfall catches and more so that you can &ldquo\;go green and and go home.&rdquo\;&nbsp\; </span><span style="color: #000000\; font-size: 11pt\; language: en">The event is free and proceeds from vendors benefit St. Matthias Environmental Club\,&nbsp\; raising money for green initiatives in our school. </span></div>
LOCATION:
UID:e.697.315
SEQUENCE:3
DTSTAMP:20260421T154233Z
URL:https://www.lincolnsquare.org/events/details/go-green-go-home-315
END:VEVENT

END:VCALENDAR
