BEGIN:VCALENDAR
VERSION:2.0
PRODID:-//ChamberMaster//Event Calendar 2.0//EN
METHOD:PUBLISH
X-PUBLISHED-TTL:P3D
REFRESH-INTERVAL:P3D
CALSCALE:GREGORIAN
BEGIN:VEVENT
DTSTART;VALUE=DATE:20101209
DTEND;VALUE=DATE:20101210
TRANSP:TRANSPARENT
X-MICROSOFT-CDO-ALLDAYEVENT:TRUE
SUMMARY:Grafton Holiday Toy Drive
DESCRIPTION:Help the kids and drink a little too! \n\n\n\nFrom 8:30-10:30\, all you can drink Shiner Bock\, Shiner Cheer and Bridgeport Hopczar\, only $35 per person. Bring a toy and get $15 off! Two hours of drinking for only $20. \n\n\n\nFirst 30 to buy receive free Shiner Santa Hats. \n\n\n\nFor those who bring toys we'll give you a seasonal beer surprise to start your night.\n\n\n\nFeaturing the live music of The Barehand Jug Band\, Beaten by Yuri\, Sleepy Lou and more!!
X-ALT-DESC;FMTTYPE=text/html:Help the kids and drink a little too! \n<br>\n<br>From 8:30-10:30\, all you can drink Shiner Bock\, Shiner Cheer and Bridgeport Hopczar\, only $35 per person. Bring a toy and get $15 off! Two hours of drinking for only $20. \n<br>\n<br>First 30 to buy receive free Shiner Santa Hats. \n<br>\n<br>For those who bring toys we'll give you a seasonal beer surprise to start your night.\n<br>\n<br>Featuring the live music of The Barehand Jug Band\, Beaten by Yuri\, Sleepy Lou and more!! 
LOCATION:
UID:e.697.689
SEQUENCE:3
DTSTAMP:20260421T015842Z
URL:https://www.lincolnsquare.org/events/details/grafton-holiday-toy-drive-689
END:VEVENT

END:VCALENDAR
