BEGIN:VCALENDAR
VERSION:2.0
PRODID:-//ChamberMaster//Event Calendar 2.0//EN
METHOD:PUBLISH
X-PUBLISHED-TTL:P3D
REFRESH-INTERVAL:P3D
CALSCALE:GREGORIAN
BEGIN:VEVENT
DTSTART:20100515T230000Z
DTEND:20100516T030000Z
X-MICROSOFT-CDO-ALLDAYEVENT:FALSE
SUMMARY:Gumbo Stomp 2!
DESCRIPTION:Cajun dance fundraiser for continuing rebuild work in New Orleans. Live music\, dance instruction and dinner included! Allons danser!
X-ALT-DESC;FMTTYPE=text/html:Cajun dance fundraiser for continuing rebuild work in New Orleans. Live music\, dance instruction and dinner included! Allons danser!
LOCATION:Parish Hall\, All Saints' Episcopal Church\, 1757 West Wilson (at Hermitage)
UID:e.697.303
SEQUENCE:3
DTSTAMP:20260421T122023Z
URL:https://www.lincolnsquare.org/events/details/gumbo-stomp-2-303
END:VEVENT

END:VCALENDAR
