BEGIN:VCALENDAR
VERSION:2.0
PRODID:-//ChamberMaster//Event Calendar 2.0//EN
METHOD:PUBLISH
X-PUBLISHED-TTL:P3D
REFRESH-INTERVAL:P3D
CALSCALE:GREGORIAN
BEGIN:VEVENT
DTSTART:20110515T000000Z
DTEND:20110515T040000Z
X-MICROSOFT-CDO-ALLDAYEVENT:FALSE
SUMMARY:Gumbo Stomp 3!
DESCRIPTION:Cajun dance party to raise money for two important missions:rebuilding homes in New Orleans post-Katrina and the levee failure\, and helping restore the wetlands of coastal Louisiana. Live music by the Midway Ramblers Cajun Band\, dance instruction and bread pudding included.
X-ALT-DESC;FMTTYPE=text/html:Cajun dance party to raise money for two important missions:rebuilding homes in New Orleans post-Katrina and the levee failure\, and helping restore the wetlands of coastal Louisiana. Live music by the Midway Ramblers Cajun Band\, dance instruction and bread pudding included.
LOCATION:All Saints' Episcopal Church\, Parish Hall\, 1757 West Wilson Avenue\, Chicago
UID:e.697.858
SEQUENCE:3
DTSTAMP:20260420T190944Z
URL:https://www.lincolnsquare.org/events/details/gumbo-stomp-3-858
END:VEVENT

END:VCALENDAR
