BEGIN:VCALENDAR
VERSION:2.0
PRODID:-//ChamberMaster//Event Calendar 2.0//EN
METHOD:PUBLISH
X-PUBLISHED-TTL:P3D
REFRESH-INTERVAL:P3D
CALSCALE:GREGORIAN
BEGIN:VEVENT
DTSTART:20111029T150000Z
DTEND:20111029T170000Z
X-MICROSOFT-CDO-ALLDAYEVENT:FALSE
SUMMARY:Halloween Face Painting at Pickle's Playroom
DESCRIPTION:Stop by Pickle's Playroom before you stroll the streets of Lincoln Square this Halloween Happenings and get your children's face painted!
X-ALT-DESC;FMTTYPE=text/html:<br />\nStop by Pickle&#39\;s Playroom before you stroll the streets of Lincoln Square this Halloween Happenings and get your children&#39\;s&nbsp\;face painted!
LOCATION:Pickle's Playroom 2315 W. Lawrence Ave.
UID:e.697.2160
SEQUENCE:3
DTSTAMP:20260420T094430Z
URL:https://www.lincolnsquare.org/events/details/halloween-face-painting-2160
END:VEVENT

END:VCALENDAR
