BEGIN:VCALENDAR
VERSION:2.0
PRODID:-//ChamberMaster//Event Calendar 2.0//EN
METHOD:PUBLISH
X-PUBLISHED-TTL:P3D
REFRESH-INTERVAL:P3D
CALSCALE:GREGORIAN
BEGIN:VEVENT
DTSTART:20100519T000000Z
DTEND:20100519T010000Z
X-MICROSOFT-CDO-ALLDAYEVENT:FALSE
SUMMARY:Healthy Bones\, Healthy Aging
DESCRIPTION:MAY IS NATIONAL OSTEOPOROSIS AWARENESS AND PREVENTION MONTH\n\n\n\nFIND OUT IF YOU ARE AT RISK FOR DEVELOPING OSTEOPOROSIS - PREVENTION STARTS AT ANY AGE!\n\n\n\nOn Tuesday\, May 18th at 7:00 PM\, Dr. Kenneth Weber will present "Healthy Bones\, Healthy Aging".  A staggering 44 million Americans are estimated to be affected by low bone mass\, and one osteoporotic fracture happens every 20 seconds!\n\n\n\nThe good news is that with proper knowledge\, many life threatening consequences can be avoided - even after being diagnosed with osteoporosis!\n\n\n\nLearn about prevention and management strategies and receive a free Risk Assessment as Dr. Weber presents "Healthy Bones\, Healthy Aging".  80% of women with osteoporosis are undiagnosed until fractures have occurred - We hope to change that!  This event is FREE and men and women of all ages are invited to attend.  Seating is limited and R.S.V.P.'s are requested.  For more information please visit our website www.RennWellness.com or contact Nadia Hare at (773) 878-7330.
X-ALT-DESC;FMTTYPE=text/html:MAY IS NATIONAL OSTEOPOROSIS AWARENESS AND PREVENTION MONTH\n<br>\n<br>FIND OUT IF YOU ARE AT RISK FOR DEVELOPING OSTEOPOROSIS - PREVENTION STARTS AT ANY AGE!\n<br>\n<br>On Tuesday\, May 18th at 7:00 PM\, Dr. Kenneth Weber will present "Healthy Bones\, Healthy Aging".  A staggering 44 million Americans are estimated to be affected by low bone mass\, and one osteoporotic fracture happens every 20 seconds!\n<br>\n<br>The good news is that with proper knowledge\, many life threatening consequences can be avoided - even after being diagnosed with osteoporosis!\n<br>\n<br>Learn about prevention and management strategies and receive a free Risk Assessment as Dr. Weber presents "Healthy Bones\, Healthy Aging".  80% of women with osteoporosis are undiagnosed until fractures have occurred - We hope to change that!  This event is FREE and men and women of all ages are invited to attend.  Seating is limited and R.S.V.P.'s are requested.  For more information please visit our website www.RennWellness.com or contact Nadia Hare at (773) 878-7330.\n<br>
LOCATION:Ravenswood Chiropractic & Wellness Center 5215 North Ravenswood\, Suite 105 Chicago\, Il 60640
UID:e.697.317
SEQUENCE:3
DTSTAMP:20260421T123419Z
URL:https://www.lincolnsquare.org/events/details/healthy-bones-healthy-aging-317
END:VEVENT

END:VCALENDAR
