BEGIN:VCALENDAR
VERSION:2.0
PRODID:-//ChamberMaster//Event Calendar 2.0//EN
METHOD:PUBLISH
X-PUBLISHED-TTL:P3D
REFRESH-INTERVAL:P3D
CALSCALE:GREGORIAN
BEGIN:VEVENT
DTSTART;VALUE=DATE:20111207
DTEND;VALUE=DATE:20111210
TRANSP:TRANSPARENT
X-MICROSOFT-CDO-ALLDAYEVENT:TRUE
SUMMARY:Help End Hunger with Scouting For Food and Save at Piggy Toes
DESCRIPTION:Piggy Toes\, the Chicago Area Cub Scouts and the Greater Chicago Food Depository want to put an end to hunger with Scouting For Food.\n\n	\n\n	Bring in canned food to either of our two locations Now thru Friday December 9th and Save! The more you bring in the more you SAVE.\n\n	\n\n	1 can receive 10% off purchase\n\n	3 cans receive 15% off purchase\n\n	5 cans receive 20% off purchase\n\n	\n\n	HELP US KICK HUNGER IN CHICAGO\n\n	\n\n	2205 N. Halsted 773-281-5583 & 4548 N. Western Ave 773-878-1122\n\n	\n\n	*Offer not valid on sale merchandise or with other special offers.
X-ALT-DESC;FMTTYPE=text/html:<p>\n	<span style="font-size: 12px"><span class="messageBody" data-ft="{&quot\;type&quot\;:3}">Piggy Toes\, the Chicago Area Cub Scouts and the Greater Chicago Food Depository want to put an end to hunger with Scouting For Food.<br />\n	<br />\n	Bring in canned food to either of our two locations Now thru Friday December 9th and Save! The more you bring in the more you SAVE.<br />\n	<br />\n	1 can receive 10% off purchase<br />\n	<span class="text_exposed_show">3 cans receive 15% off purchase<br />\n	5 cans receive 20% off purchase<br />\n	<br />\n	HELP US KICK HUNGER IN CHICAGO<br />\n	<br />\n	2205 N. Halsted 773-281-5583 &amp\; 4548 N. Western Ave 773-878-1122<br />\n	<br />\n	<em>*Offer not valid on sale merchandise or with other special offers.</em></span></span></span></p>\n
LOCATION:Piggy Toes 4548 N. Western Avenue
UID:e.697.2443
SEQUENCE:3
DTSTAMP:20260420T061457Z
URL:https://www.lincolnsquare.org/events/details/help-end-hunger-with-scouting-for-food-and-save-at-piggy-toes-2443
END:VEVENT

END:VCALENDAR
