BEGIN:VCALENDAR
VERSION:2.0
PRODID:-//ChamberMaster//Event Calendar 2.0//EN
METHOD:PUBLISH
X-PUBLISHED-TTL:P3D
REFRESH-INTERVAL:P3D
CALSCALE:GREGORIAN
BEGIN:VEVENT
DTSTART;VALUE=DATE:20120208
DTEND;VALUE=DATE:20120209
TRANSP:TRANSPARENT
X-MICROSOFT-CDO-ALLDAYEVENT:TRUE
SUMMARY:Homemade Pizza Co. - Fundraiser for Ravenswood Elementary
DESCRIPTION:Home Made Pizza Co. will be making a donation to Ravenswood Elementary School for every large pizza\, salad\, bread stick and dessert order sold on February 8th.\n\n\n\nCall 773.275.7600 to help support Ravenswood Elementary School today!\n\n\n\n*Offer available on Wednesday\, February 8th only.
X-ALT-DESC;FMTTYPE=text/html:<br />\nHome Made Pizza Co. will be making a donation to Ravenswood Elementary School for every large pizza\, salad\, bread stick and dessert order sold on February 8th.<br />\n<br />\nCall 773.275.7600 to help support Ravenswood Elementary School today!<br />\n<br />\n<em>*Offer available on Wednesday\, February 8th only.</em>
LOCATION:Homemade Pizza Co. 4603 N. Lincoln Avenue
UID:e.697.2459
SEQUENCE:3
DTSTAMP:20260420T032327Z
URL:https://www.lincolnsquare.org/events/details/homemade-pizza-co-fundraiser-for-ravenswood-elementary-2459
END:VEVENT

END:VCALENDAR
