BEGIN:VCALENDAR
VERSION:2.0
PRODID:-//ChamberMaster//Event Calendar 2.0//EN
METHOD:PUBLISH
X-PUBLISHED-TTL:P3D
REFRESH-INTERVAL:P3D
CALSCALE:GREGORIAN
BEGIN:VEVENT
DTSTART:20100625T000000Z
DTEND:20100625T010000Z
X-MICROSOFT-CDO-ALLDAYEVENT:FALSE
SUMMARY:How to Break the Headache Pain Cycle
DESCRIPTION:Dr. Kenneth Weber ? Chiropractic Physician\, and Tracie Hinton-Chavez ? Licensed Acupuncturist\, present:\n\n\n\nHow to Break the Headache Pain Cycle \n\n\n\nRavenswood Chiropractic & Wellness Center presents Dr. Kenneth Weber\, a Chiropractic Physician and Tracie Hinton-Chavez\, a Licensed Acupuncturist\;  two headache experts who will share with you  the latest advances in headache management strategies.  Join us for this free workshop!\n\n\n\nDate: Thursday: June 24th 2010\n\n\n\nTime: 7:00 P.M.\n\n\n\nPlace: Ravenswood Chiropractic & Wellness Center\n\n\n\n            5215 North Ravenswood\, Suite 105\n\n\n\n            Chicago\, IL 60640\n\n\n\n            www.RennWellness.com\n\n\n\n            (773) 878-7330\n\n\n\nBenefit from Dr. Kenneth Weber?s  and Tracie Hinton-Chavez?s comprehensive research and experience \n\nHeadaches are the most common nervous system disorder and are experienced by almost everyone at least once in their life.  There are many types of headaches which can range from annoying to debilitating painful.  They can come on suddenly or gradually and they affect people of all ages.  Since they are such a common occurrence they often go unrecognized and untreated.  We aim to raise awareness of the types of headaches experienced and current resources available to help break the headache pain cycle.  Topics to be covered include:\n\n\n\n·         Types of Headaches\n\n\n\n·         How physical medicine can break the headache pain cycle\n\n\n\n·         Lifestyle Changes\n\n\n\n·         Preventative care\n\n\n\n·         Dietary considerations\n\n\n\n·         Stretches\n\n\n\n·         Postural changes\n\n\n\n·         Relaxation techniques\n\n\n\n·         The Chinese Medicine perspective on Headache \n\n\n\n·         Acupressure Techniques\n\n\n\nAt this workshop you?ll receive a headache diary and an opportunity to ask questions.\n\n\n\nIf you haven?t already done so\, please make your reservation now.  Seating is limited.\n\n\n\nRegister by visiting the events section of our website: www.RennWellness.com or call Nadia Hare at (773) 878-7330
X-ALT-DESC;FMTTYPE=text/html:Dr. Kenneth Weber ? Chiropractic Physician\, and Tracie Hinton-Chavez ? Licensed Acupuncturist\, present:\n<br>\n<br>How to Break the Headache Pain Cycle \n<br>\n<br>Ravenswood Chiropractic &amp\; Wellness Center presents Dr. Kenneth Weber\, a Chiropractic Physician and Tracie Hinton-Chavez\, a Licensed Acupuncturist\;  two headache experts who will share with you  the latest advances in headache management strategies.  Join us for this free workshop!\n<br>\n<br>Date: Thursday: June 24th 2010\n<br>\n<br>Time: 7:00 P.M.\n<br>\n<br>Place: Ravenswood Chiropractic &amp\; Wellness Center\n<br>\n<br>            5215 North Ravenswood\, Suite 105\n<br>\n<br>            Chicago\, IL 60640\n<br>\n<br>            www.RennWellness.com\n<br>\n<br>            (773) 878-7330\n<br>\n<br>Benefit from Dr. Kenneth Weber?s  and Tracie Hinton-Chavez?s comprehensive research and experience \n<br>Headaches are the most common nervous system disorder and are experienced by almost everyone at least once in their life.  There are many types of headaches which can range from annoying to debilitating painful.  They can come on suddenly or gradually and they affect people of all ages.  Since they are such a common occurrence they often go unrecognized and untreated.  We aim to raise awareness of the types of headaches experienced and current resources available to help break the headache pain cycle.  Topics to be covered include:\n<br>\n<br>·         Types of Headaches\n<br>\n<br>·         How physical medicine can break the headache pain cycle\n<br>\n<br>·         Lifestyle Changes\n<br>\n<br>·         Preventative care\n<br>\n<br>·         Dietary considerations\n<br>\n<br>·         Stretches\n<br>\n<br>·         Postural changes\n<br>\n<br>·         Relaxation techniques\n<br>\n<br>·         The Chinese Medicine perspective on Headache \n<br>\n<br>·         Acupressure Techniques\n<br>\n<br>At this workshop you?ll receive a headache diary and an opportunity to ask questions.\n<br>\n<br>If you haven?t already done so\, please make your reservation now.  Seating is limited.\n<br>\n<br>Register by visiting the events section of our website: www.RennWellness.com or call Nadia Hare at (773) 878-7330\n<br>
LOCATION:Ravenswood Chiropractic & Wellness Center 5215 North Ravenswood\, Suite 105 Chicago\, IL 60640
UID:e.697.547
SEQUENCE:3
DTSTAMP:20260421T104858Z
URL:https://www.lincolnsquare.org/events/details/how-to-break-the-headache-pain-cycle-547
END:VEVENT

END:VCALENDAR
