BEGIN:VCALENDAR
VERSION:2.0
PRODID:-//ChamberMaster//Event Calendar 2.0//EN
METHOD:PUBLISH
X-PUBLISHED-TTL:P3D
REFRESH-INTERVAL:P3D
CALSCALE:GREGORIAN
BEGIN:VEVENT
DTSTART:20110608T000000Z
DTEND:20110608T004500Z
X-MICROSOFT-CDO-ALLDAYEVENT:FALSE
SUMMARY:How to Stay Young at Kelly Chiropractic
DESCRIPTION:Come on out for our complimentary health workshop!  We start promptly at 7:00 PM but feel free to arrive early to enjoy light refreshments and networking.  Bring all of your health questions with you or a friend.  All are welcome. \n\n\n\n\n\nEmail kellychiroforms@gmail.com to RSVP by June 6th. \n\n\n\n\n\n*Please note that we must receive at least 4 RSVPs for this workshop to run.
X-ALT-DESC;FMTTYPE=text/html:<br />\n<span style="font-family: verdana">Come on out for our complimentary health workshop!&nbsp\; We start promptly at 7:00 PM but feel free to arrive early to enjoy light refreshments and networking.&nbsp\; Bring all of your health questions with you or a friend.&nbsp\; All are welcome.&nbsp\;<br />\n<br />\n<br />\nEmail kellychiroforms@gmail.com to RSVP by June 6th.&nbsp\;<br />\n<br />\n<br />\n<span style="font-size: 9px">*Please note that we must receive at least 4 RSVPs for this workshop to run.&nbsp\; </span></span>
LOCATION:4223 N Lincoln Ave\, 60618
UID:e.697.882
SEQUENCE:3
DTSTAMP:20260420T160125Z
URL:https://www.lincolnsquare.org/events/details/how-to-stay-young-at-kelly-chiropractic-882
END:VEVENT

END:VCALENDAR
