BEGIN:VCALENDAR
VERSION:2.0
PRODID:-//ChamberMaster//Event Calendar 2.0//EN
METHOD:PUBLISH
X-PUBLISHED-TTL:P3D
REFRESH-INTERVAL:P3D
CALSCALE:GREGORIAN
BEGIN:VEVENT
DTSTART:20110622T230000Z
DTEND:20110623T013000Z
X-MICROSOFT-CDO-ALLDAYEVENT:FALSE
SUMMARY:"Ingredients" Screening
DESCRIPTION:INGREDIENTS - The Local Food Movement Takes Root\n\n	\n\n	Join the Lincoln Square Chamber of Commerce Sustainability Committee's celebration of food & film\, farmers & chefs at the DANK Haus!  In a partnership with Jim Javenkoski's Local Food Wisdom we will be presenting the screening of the documentary Ingredients\, a film illustrating how people around the country are working to revitalize the connection between local food\, the local community\, and our health.  Ingredients is a journey that reveals the people behind the movement to bring food back to the table and health back to our communities.\n\n	\n\n	Tickets are on sale now through Brown Paper Tickets. ($25 Adults / $5 Children 12 and Under)\n\n	\n\n	Ticket Prices include food from local restaurants and farmers\, screening of Ingredients\, and open discussion following the film.\n\n	\n\n	Food services begins @ 6:00pm\n\n	Introductions begin @ 6:45pm\n\n	Film begins @ 7:00pm
X-ALT-DESC;FMTTYPE=text/html:<p>\n	<br />\n	INGREDIENTS - The Local Food Movement Takes Root<br />\n	<br />\n	Join the Lincoln Square Chamber of Commerce Sustainability Committee&#39\;s celebration of food &amp\; film\, farmers &amp\; chefs at the DANK Haus!&nbsp\; In a partnership with Jim&nbsp\;Javenkoski&#39\;s <a href="http://localfoodwisdom.blogspot.com">Local Food Wisdom</a> we will be presenting the screening of the documentary <em>Ingredients</em>\, a film illustrating how people around the country are working to revitalize the connection between local food\, the local community\, and our health.&nbsp\; <em>Ingredients </em>is a journey that reveals the people behind the movement to bring food back to the table and health back to our communities.<br />\n	<br />\n	Tickets are on sale now through <a href="http://www.brownpapertickets.com/event/180686">Brown Paper Tickets</a>. ($25 Adults / $5 Children 12 and Under)<br />\n	<br />\n	Ticket Prices include food from local restaurants and farmers\, screening of Ingredients\, and open discussion following the film.<br />\n	<br />\n	Food services begins&nbsp\;@ 6:00pm<br />\n	Introductions begin @ 6:45pm<br />\n	Film begins @ 7:00pm</p>\n
LOCATION:DANK Haus 4740 N. Western Avenue Chicago\, IL 60625 773.561.9181
UID:e.697.906
SEQUENCE:3
DTSTAMP:20260420T154753Z
URL:https://www.lincolnsquare.org/events/details/ingredients-screening-906
END:VEVENT

END:VCALENDAR
