BEGIN:VCALENDAR
VERSION:2.0
PRODID:-//ChamberMaster//Event Calendar 2.0//EN
METHOD:PUBLISH
X-PUBLISHED-TTL:P3D
REFRESH-INTERVAL:P3D
CALSCALE:GREGORIAN
BEGIN:VEVENT
DTSTART:20110716T190000Z
DTEND:20110716T200000Z
X-MICROSOFT-CDO-ALLDAYEVENT:FALSE
SUMMARY:Is Your House Making You Sick?
DESCRIPTION:Is Your House Making You Sick?\n\n\n\nJoin us on July 16th at 2pm as Dr. Todd Renn\, D.C. presents Is Your House Making You Sick ? \n\n\n\nPresentation Topics Include:\n\n\n\nEPA / FDA Regulations and Testing Initiatives\n\nEndocrine Disruptors\n\nBisphenol-A\n\nPesticides\n\nClothing Flame Retardants\n\nSunscreen\n\nSoaps\n\nWater\n\nEMF's\n\nHeavy Metals\n\nCleaning Products\n\nInsect Repellants\n\nCookware\n\nCarpeting and Paint\n\nGardening\n\n\n\nPresentation will include green alternatives as well as an opportunity to "make your own" green cleaning product.\n\n\n\nSeating is Limited\, please pre-register by visiting the events section of our website www.RennWellness.com  or by calling us at (773) 878-7330
X-ALT-DESC;FMTTYPE=text/html:<strong>Is Your House Making You Sick?</strong><br />\n<br />\n<em>Join us on July 16th at 2pm as Dr. Todd Renn\, D.C. presents Is Your House Making You Sick ? </em><br />\n<br />\nPresentation Topics Include:<br />\n<br />\nEPA / FDA Regulations and Testing Initiatives<br />\nEndocrine Disruptors<br />\nBisphenol-A<br />\nPesticides<br />\nClothing Flame Retardants<br />\nSunscreen<br />\nSoaps<br />\nWater<br />\nEMF&#39\;s<br />\nHeavy Metals<br />\nCleaning Products<br />\nInsect Repellants<br />\nCookware<br />\nCarpeting and Paint<br />\nGardening<br />\n<br />\nPresentation will include green alternatives as well as an opportunity to &quot\;make your own&quot\; green cleaning product.<br />\n<br />\nSeating is Limited\, please pre-register&nbsp\;by visiting the events section of our website <a href="http://www.RennWellness.com">www.RennWellness.com</a> &nbsp\;or by calling&nbsp\;us at (773) 878-7330<br />\n<br />\n
LOCATION:Ravenswood Chiropractic & Wellness Center 5215 North Ravenswood\, Suite 105 Chicago\, IL 60640
UID:e.697.1045
SEQUENCE:3
DTSTAMP:20260420T141428Z
URL:https://www.lincolnsquare.org/events/details/is-your-house-making-you-sick-1045
END:VEVENT

END:VCALENDAR
