BEGIN:VCALENDAR
VERSION:2.0
PRODID:-//ChamberMaster//Event Calendar 2.0//EN
METHOD:PUBLISH
X-PUBLISHED-TTL:P3D
REFRESH-INTERVAL:P3D
CALSCALE:GREGORIAN
BEGIN:VEVENT
DTSTART:20120714T193000Z
DTEND:20120714T203000Z
X-MICROSOFT-CDO-ALLDAYEVENT:FALSE
SUMMARY:Is Your House Making You Sick?
DESCRIPTION:Dr. Todd Renn   Chicago Chiropractic Physician\, presents:\n\n\n	Is Your House Making You Sick?\n\n\nRavenswood Chiropractic & Wellness Center a proud participant of Andersonville Green Week created by Eco-Andersonville\, Dr. Todd Renn\, a Chiropractic Physician\; an expert of the affects of toxic substances in the human body will share with you where hidden toxic substances can be found\, assessing body burden\, and strategies that minimize exposure. Join us for this free presentation!\n\n\n\nDate: Saturday: July 14th 2012\n\n\n\nTime: 2:30 P.M.\n\n\n\nPlace: Ravenswood Chiropractic & Wellness Center\n\n\n\n5215 North Ravenswood\, Suite 105\n\n\n\nChicago\, IL 60640\n\n\n\nwww.RennWellness.com\n\n\n\n(773) 878-7330\n\n\n\nBenefit from Dr. Todd Renn\, D.C.'s comprehensive research and experience\n\n\n\nThe biggest threats lurking in most people's homes are easy to reduce\; you just need to know about them and learn about green alternatives. Topics to be covered include:\n\n\n\nEPA/FDA Testing Initiatives and Regulation overview\n\nEndocrine disruptors\n\nBisphenol-A\n\nPesticides\n\nFlame Retardants on Fabrics\n\nSunscreen\n\nSoaps\n\nWater\n\nEMF's\n\nHeavy Metals\n\nCleaning Products\n\nInsect Repellants\n\nCookware\n\nCarpeting and Paint\n\nGardening\n\nAt this workshop you'll receive a convenient list of dangerous items that may be in your house and a list of Green alternatives you can use with resources and an opportunity to ask questions.\n\n\n\nIf you haven't already done so\, please make your reservation now. Seating is limited.\n\n\n\nRegister on our website in the Events Section: www.RennWellness.com or\n\n\n\nCall Olivia at (773) 878-7330
X-ALT-DESC;FMTTYPE=text/html:<span style="font-size: 16px"><u><strong>Dr. Todd Renn &ndash\; Chicago Chiropractic Physician\, presents:</strong></u></span><br />\n<h3 style="color: blue">\n	<span style="font-size: 16px"><u><strong>Is Your House Making You Sick?</strong></u></span></h3>\n<br />\nRavenswood Chiropractic &amp\; Wellness Center a proud participant of Andersonville Green Week created by Eco-Andersonville\, Dr. Todd Renn\, a Chiropractic Physician\; an expert of the affects of toxic substances in the human body will share with you where hidden toxic substances can be found\, assessing body burden\, and strategies that minimize exposure. Join us for this free presentation!<br />\n<br />\n<strong>Date</strong>: Saturday: July 14th 2012<br />\n<br />\n<strong>Time:</strong> 2:30 P.M.<br />\n<br />\n<strong>Place:</strong> Ravenswood Chiropractic &amp\; Wellness Center<br />\n<br />\n5215 North Ravenswood\, Suite 105<br />\n<br />\nChicago\, IL 60640<br />\n<br />\nwww.RennWellness.com<br />\n<br />\n(773) 878-7330<br />\n<br />\nBenefit from Dr. Todd Renn\, D.C.&rsquo\;s comprehensive research and experience<br />\n<br />\nThe biggest threats lurking in most people&rsquo\;s homes are easy to reduce\; you just need to know about them and learn about green alternatives. Topics to be covered include:<br />\n<br />\nEPA/FDA Testing Initiatives and Regulation overview<br />\nEndocrine disruptors<br />\nBisphenol-A<br />\nPesticides<br />\nFlame Retardants on Fabrics<br />\nSunscreen<br />\nSoaps<br />\nWater<br />\nEMF&rsquo\;s<br />\nHeavy Metals<br />\nCleaning Products<br />\nInsect Repellants<br />\nCookware<br />\nCarpeting and Paint<br />\nGardening<br />\nAt this workshop you&rsquo\;ll receive a convenient list of dangerous items that may be in your house and a list of Green alternatives you can use with resources and an opportunity to ask questions.<br />\n<br />\nIf you haven&rsquo\;t already done so\, please make your reservation now. Seating is limited.<br />\n<br />\nRegister on our website in the Events Section: www.RennWellness.com or<br />\n<br />\nCall Olivia at (773) 878-7330<br />\n<br />\n
LOCATION:5215 N. Ravenswood Ave. Suite 105 Chicago\, IL 60640
UID:e.697.3572
SEQUENCE:3
DTSTAMP:20260419T202446Z
URL:https://www.lincolnsquare.org/events/details/is-your-house-making-you-sick-3572
END:VEVENT

END:VCALENDAR
