BEGIN:VCALENDAR
VERSION:2.0
PRODID:-//ChamberMaster//Event Calendar 2.0//EN
METHOD:PUBLISH
X-PUBLISHED-TTL:P3D
REFRESH-INTERVAL:P3D
CALSCALE:GREGORIAN
BEGIN:VEVENT
DTSTART:20100731T013000Z
DTEND:20100731T053000Z
X-MICROSOFT-CDO-ALLDAYEVENT:FALSE
SUMMARY:Jazz on the Terrace
DESCRIPTION:Doors open at 8:30 pm\n\nFirst set at 9:00 pm
X-ALT-DESC;FMTTYPE=text/html:Doors open at 8:30 pm\n<br>First set at 9:00 pm
LOCATION:
UID:e.697.578
SEQUENCE:3
DTSTAMP:20260421T092402Z
URL:https://www.lincolnsquare.org/events/details/jazz-on-the-terrace-578
END:VEVENT

END:VCALENDAR
