BEGIN:VCALENDAR
VERSION:2.0
PRODID:-//ChamberMaster//Event Calendar 2.0//EN
METHOD:PUBLISH
X-PUBLISHED-TTL:P3D
REFRESH-INTERVAL:P3D
CALSCALE:GREGORIAN
BEGIN:VEVENT
DTSTART:20101030T013000Z
DTEND:20101030T043000Z
X-MICROSOFT-CDO-ALLDAYEVENT:FALSE
SUMMARY:Jazz on the terrace
DESCRIPTION:Enjoy the soothing sounds of jazz from our very own 6th floor terrace (weather permitting) overlooking the skyline.\n\nFor snacks\, we've got $2 pretzels and $5 landjager.
X-ALT-DESC;FMTTYPE=text/html:Enjoy the soothing sounds of jazz from our very own 6th floor terrace (weather permitting) overlooking the skyline.\n<br>For snacks\, we've got $2 pretzels and $5 landjager.
LOCATION:
UID:e.697.600
SEQUENCE:3
DTSTAMP:20260421T050612Z
URL:https://www.lincolnsquare.org/events/details/jazz-on-the-terrace-600
END:VEVENT

END:VCALENDAR
