BEGIN:VCALENDAR
VERSION:2.0
PRODID:-//ChamberMaster//Event Calendar 2.0//EN
METHOD:PUBLISH
X-PUBLISHED-TTL:P3D
REFRESH-INTERVAL:P3D
CALSCALE:GREGORIAN
BEGIN:VEVENT
DTSTART:20100501T013000Z
DTEND:20100501T053000Z
X-MICROSOFT-CDO-ALLDAYEVENT:FALSE
SUMMARY:Jazz - Tony Morrison Trio & Carl Leukaufe
DESCRIPTION:No Cover\n\nDoors open 8:30 pm First set at 9:00 pm\n\nCarl Leukafe has been be-bopping on the vibraphone for over 4 decades! Come see the magic with the Tony Morrison Trio\n\n\n\nEnjoy the gorgeous Skyline view from the Terrasse
X-ALT-DESC;FMTTYPE=text/html:No Cover\n<br>Doors open 8:30 pm First set at 9:00 pm\n<br>Carl Leukafe has been be-bopping on the vibraphone for over 4 decades! Come see the magic with the Tony Morrison Trio\n<br>\n<br>Enjoy the gorgeous Skyline view from the Terrasse
LOCATION:DANK Haus Skyline Lounge 4740 N Western Ave Chicago IL 60625
UID:e.697.465
SEQUENCE:3
DTSTAMP:20260421T123943Z
URL:https://www.lincolnsquare.org/events/details/jazz-tony-morrison-trio-carl-leukaufe-465
END:VEVENT

END:VCALENDAR
