BEGIN:VCALENDAR
VERSION:2.0
PRODID:-//ChamberMaster//Event Calendar 2.0//EN
METHOD:PUBLISH
X-PUBLISHED-TTL:P3D
REFRESH-INTERVAL:P3D
CALSCALE:GREGORIAN
BEGIN:VEVENT
DTSTART:20110818T150000Z
DTEND:20110818T190000Z
X-MICROSOFT-CDO-ALLDAYEVENT:FALSE
SUMMARY:Job Resource Fair
DESCRIPTION:Looking for help finding a job?\n\n	Want to learn how to better prepare for interviews?\n\n	Struggling to write your resume?\n\n	 \n\n	CONGRESSMAN\n\n	MIKE QUIGLEY (IL-5)\n\n	invites you to our\n\n	JOB RESOURCE FAIR\n\n	    \n\n	Thursday\, August 18\, 2011\n\n	10:00am - 2:00pm\n\n	\n\n	    \n\n	Northside College Prep High School\n\n	5501 N. Kedzie Avenue - Chicago\, IL\n\n	\n\n	 \n\n	\n		Free and Open to the Public\n	\n		Job training and placement programs\n	\n		Community resources available\n	\n		Participating organizations including government agencies\, manufacturers\, and other employers from various industries\n\n\n	\n\n	For more information\, please call 773-267-5926
X-ALT-DESC;FMTTYPE=text/html:<p style="text-align: center">\n	Looking for help finding a job?<br />\n	Want to learn how to better prepare for interviews?<br />\n	Struggling to write your resume?<br />\n	&nbsp\;</p>\n<p style="text-align: center">\n	<span style="font-size: 18px"><strong>CONGRESSMAN<br />\n	MIKE QUIGLEY (IL-5)</strong></span><br />\n	<em><span style="font-size: 16px">invites you to our</span></em><br />\n	<u><strong><span style="font-size: 20px">JOB RESOURCE FAIR</span></strong></u></p>\n<p style="text-align: center">\n	<span _fck_bookmark="1" style="display: none">&nbsp\;</span><span _fck_bookmark="1" style="display: none">&nbsp\;</span><span _fck_bookmark="1" style="display: none">&nbsp\;</span><span _fck_bookmark="1" style="display: none">&nbsp\;</span><br />\n	Thursday\, August 18\, 2011<br />\n	10:00am - 2:00pm<br />\n	<br />\n	<span _fck_bookmark="1" style="display: none">&nbsp\;</span><span _fck_bookmark="1" style="display: none">&nbsp\;</span><span _fck_bookmark="1" style="display: none">&nbsp\;</span><span _fck_bookmark="1" style="display: none">&nbsp\;</span><br />\n	Northside College Prep High School<br />\n	5501 N. Kedzie Avenue - Chicago\, IL<br />\n	<br />\n	&nbsp\;</p>\n<ul>\n	<li>\n		Free and Open to the Public</li>\n	<li>\n		Job training and placement programs</li>\n	<li>\n		Community resources available</li>\n	<li>\n		Participating organizations including government agencies\, manufacturers\, and other employers from various industries</li>\n</ul>\n<p style="text-align: center">\n	<br />\n	For more information\, please call 773-267-5926<br />\n	&nbsp\;</p>\n
LOCATION:Northside College Prep High School 5501 N. Kedzie Avenue\, Chicago\, IL
UID:e.697.1316
SEQUENCE:3
DTSTAMP:20260420T122803Z
URL:https://www.lincolnsquare.org/events/details/job-resource-fair-1316
END:VEVENT

END:VCALENDAR
