BEGIN:VCALENDAR
VERSION:2.0
PRODID:-//ChamberMaster//Event Calendar 2.0//EN
METHOD:PUBLISH
X-PUBLISHED-TTL:P3D
REFRESH-INTERVAL:P3D
CALSCALE:GREGORIAN
BEGIN:VEVENT
DTSTART:20110821T150000Z
DTEND:20110821T160000Z
X-MICROSOFT-CDO-ALLDAYEVENT:FALSE
SUMMARY:Joint Worship Service at Welles Park - Luther Memorial & Berry United Methodist
DESCRIPTION:To wrap up Vacation Bible School\, Luther Memorial Church and Berry United Methodist Church will be having a joint worship service on Sunday\, August 21st at Welles Park. We will meet at the Gazebo on the west side of the park. Bring a blanket or lawn chair (we'll also have some from the church)\, and come enjoy an outdoor worship experience. The service will be short\, only about 45 minutes\, and we're encouraging people to bring fruit and other healthy snacks to share during and after the service.
X-ALT-DESC;FMTTYPE=text/html:<br />\nTo wrap up Vacation Bible School\, Luther Memorial Church and Berry United Methodist Church will be having a joint worship service on Sunday\, August 21st at Welles Park. We will meet at the Gazebo on the west side of the park. Bring a blanket or lawn chair (we&#39\;ll also have some from the church)\, and come enjoy an outdoor worship experience. The service will be short\, only about 45 minutes\, and we&#39\;re encouraging people to bring fruit and other healthy snacks to share during and after the service. 
LOCATION:Welles Park
UID:e.697.1329
SEQUENCE:3
DTSTAMP:20260420T125135Z
URL:https://www.lincolnsquare.org/events/details/joint-worship-service-at-welles-park-luther-memorial-berry-united-methodist-1329
END:VEVENT

END:VCALENDAR
