BEGIN:VCALENDAR
VERSION:2.0
PRODID:-//ChamberMaster//Event Calendar 2.0//EN
METHOD:PUBLISH
X-PUBLISHED-TTL:P3D
REFRESH-INTERVAL:P3D
CALSCALE:GREGORIAN
BEGIN:VEVENT
DTSTART:20110813T140000Z
DTEND:20110813T180000Z
X-MICROSOFT-CDO-ALLDAYEVENT:FALSE
SUMMARY:jookie's 5th Birthday Bash
DESCRIPTION:Live Music! Cupcakes! Photo booth! Giveaways! \n\n\n\nHelp jookie celebrate its 5th birthday Saturday\, August 13th from 9 am to 1 pm. \n\nAll are welcome to attend. \n\nLaura Doherty plays at 9:30\, 10:30\, 11:30 and 12:30. Cupcakes from Bleeding Heart Bakery (rsvp for gluten-free ones). \n\nSouvenir photo booth.\n\nEnter a Drawing to win a family session:\n\nbring a friend who hasn't been to jookie yet and receive two extra entries!\n\nGoody bags for the first 20 families - including the latest CD from The Dreamtree Shakers!
X-ALT-DESC;FMTTYPE=text/html:<strong>Live Music! Cupcakes! Photo booth! Giveaways! </strong><br />\n<br />\nHelp jookie celebrate its 5th birthday Saturday\, August 13th from 9 am to 1 pm.&nbsp\;<br />\nAll are welcome to attend.&nbsp\;<br />\n<strong>Laura Doherty </strong>plays at 9:30\, 10:30\, 11:30 and 12:30. Cupcakes from <strong>Bleeding Heart Bakery</strong> (rsvp for gluten-free ones).&nbsp\;<br />\nSouvenir photo booth.<br />\nEnter a Drawing to <strong>win a family session</strong>:<br />\nbring a friend who hasn&#39\;t been to jookie yet and receive two extra entries!<br />\n<strong>Goody bags</strong> for the first 20 families - including the latest CD from The Dreamtree Shakers!<br />\n
LOCATION:4656 N. Rockwell Street
UID:e.697.1324
SEQUENCE:3
DTSTAMP:20260420T123456Z
URL:https://www.lincolnsquare.org/events/details/jookie-s-5th-birthday-bash-1324
END:VEVENT

END:VCALENDAR
