BEGIN:VCALENDAR
VERSION:2.0
PRODID:-//ChamberMaster//Event Calendar 2.0//EN
METHOD:PUBLISH
X-PUBLISHED-TTL:P3D
REFRESH-INTERVAL:P3D
CALSCALE:GREGORIAN
BEGIN:VEVENT
DTSTART:20110621T233000Z
DTEND:20110622T013000Z
X-MICROSOFT-CDO-ALLDAYEVENT:FALSE
SUMMARY:June Membership Gathering
DESCRIPTION:Join your fellow Chamber Members for a night of networking at the June Membership Gathering in the courtyard of Piggy Toes.\n\n\n\n$15 for Members\n\n$20 for Non-Members
X-ALT-DESC;FMTTYPE=text/html:<br />\nJoin your fellow Chamber Members for a night of networking at&nbsp\;the&nbsp\;June Membership Gathering in the courtyard of Piggy Toes.<br />\n<br />\n$15 for Members<br />\n$20 for Non-Members
LOCATION:Piggy Toes 4548 N. Western Avenue
UID:e.697.884
SEQUENCE:3
DTSTAMP:20260420T155227Z
URL:https://www.lincolnsquare.org/events/details/june-membership-gathering-884
END:VEVENT

END:VCALENDAR
