BEGIN:VCALENDAR
VERSION:2.0
PRODID:-//ChamberMaster//Event Calendar 2.0//EN
METHOD:PUBLISH
X-PUBLISHED-TTL:P3D
REFRESH-INTERVAL:P3D
CALSCALE:GREGORIAN
BEGIN:VEVENT
DTSTART:20101023T190000Z
DTEND:20101023T210000Z
X-MICROSOFT-CDO-ALLDAYEVENT:FALSE
SUMMARY:Kaffee. Kuchen und Kino
DESCRIPTION:Event: 'Kino- Sohn Ohne Heimat'\n\nKaffee\, Kuchen und Kino\n\nClassic German films on Saturday afternoons over coffee and pastries. Brandenburg Room\, 2nd floor. Doors at Noon\, vorfilm starts at 1pm followed by feature.\n\n	\n\nDate: Saturday\, October 23\, 2010 At 02:00 AM\n\nDuration: 2 Hours\n\n\n\nURL: http://www.imdb.de/title/tt0048635/\n\n\n\nEnjoy your favorite Heimat films in pure German. Boy - Girl - the Alps - a song or two\n\nFree admission\n\nKaffee und Kuchen - $6 for members\, $4 for nonmembers
X-ALT-DESC;FMTTYPE=text/html:<br>Event: 'Kino- Sohn Ohne Heimat'\n<br>Kaffee\, Kuchen und Kino\n<br>Classic German films on Saturday afternoons over coffee and pastries. Brandenburg Room\, 2nd floor. Doors at Noon\, vorfilm starts at 1pm followed by feature.\n<br>	\n<br>Date: Saturday\, October 23\, 2010 At 02:00 AM\n<br>Duration: 2 Hours\n<br>\n<br>URL: http://www.imdb.de/title/tt0048635/\n<br>\n<br>Enjoy your favorite Heimat films in pure German. Boy - Girl - the Alps - a song or two\n<br>Free admission\n<br>Kaffee und Kuchen - $6 for members\, $4 for nonmembers\n<br>\n<br>
LOCATION:DANK-Haus
UID:e.697.648
SEQUENCE:3
DTSTAMP:20260421T050728Z
URL:https://www.lincolnsquare.org/events/details/kaffee-kuchen-und-kino-648
END:VEVENT

END:VCALENDAR
