BEGIN:VCALENDAR
VERSION:2.0
PRODID:-//ChamberMaster//Event Calendar 2.0//EN
METHOD:PUBLISH
X-PUBLISHED-TTL:P3D
REFRESH-INTERVAL:P3D
CALSCALE:GREGORIAN
BEGIN:VEVENT
DTSTART;VALUE=DATE:20101001
DTEND;VALUE=DATE:20101002
TRANSP:TRANSPARENT
X-MICROSOFT-CDO-ALLDAYEVENT:TRUE
SUMMARY:Kaffee\, Kuchen und Kino
DESCRIPTION:Event: 'Kino- Wetterleuchten über Dem Zillertal'\n\n\n\nClassic German films on Saturday afternoons over coffee and pastries. Brandenburg Room\, 2nd floor. Doors at Noon\, vorfilm starts at 1pm followed by feature.\n\n	\n\nEnjoy your favorite Heimat films in pure German. Boy - Girl - the Alps - a song or two\n\nFree admission\n\nKaffee und Kuchen - $6 for members\, $4 for nonmembers
X-ALT-DESC;FMTTYPE=text/html:Event: 'Kino- Wetterleuchten über Dem Zillertal'\n<br>\n<br>Classic German films on Saturday afternoons over coffee and pastries. Brandenburg Room\, 2nd floor. Doors at Noon\, vorfilm starts at 1pm followed by feature.\n<br>	\n<br>Enjoy your favorite Heimat films in pure German. Boy - Girl - the Alps - a song or two\n<br>Free admission\n<br>Kaffee und Kuchen - $6 for members\, $4 for nonmembers\n<br>\n<br>
LOCATION:DANK-Haus
UID:e.697.655
SEQUENCE:3
DTSTAMP:20260421T050642Z
URL:https://www.lincolnsquare.org/events/details/kaffee-kuchen-und-kino-655
END:VEVENT

END:VCALENDAR
