BEGIN:VCALENDAR
VERSION:2.0
PRODID:-//ChamberMaster//Event Calendar 2.0//EN
METHOD:PUBLISH
X-PUBLISHED-TTL:P3D
REFRESH-INTERVAL:P3D
CALSCALE:GREGORIAN
BEGIN:VEVENT
DTSTART:20120421T150000Z
DTEND:20120421T210000Z
X-MICROSOFT-CDO-ALLDAYEVENT:FALSE
SUMMARY:Kids in the Square
DESCRIPTION:Bring the whole family out to enjoy story time\, kids exercise activities\, face painting and many more great free events at participating businesses that will remind you what it's like to be a kid again.\n\n	Activities will take place in business along Lincoln and Rockwell\, and within Giddings Plaza.\n\n	\n\n	Visit www.lincolnsquare.org/pages/KidsintheSquare for a complete list of activities.
X-ALT-DESC;FMTTYPE=text/html:<p>\n	Bring the whole family out to enjoy story time\, kids exercise activities\, face painting and many more great free events at participating businesses that will remind you what it&rsquo\;s like to be a kid again.</p>\n<p>\n	Activities will take place in business along Lincoln and Rockwell\, and within Giddings Plaza.<br />\n	<br />\n	Visit www.lincolnsquare.org/pages/KidsintheSquare for a complete list of activities.<br />\n	&nbsp\;</p>\n
LOCATION:
UID:e.697.2497
SEQUENCE:3
DTSTAMP:20260419T235256Z
URL:https://www.lincolnsquare.org/events/details/kids-in-the-square-2497
END:VEVENT

END:VCALENDAR
