BEGIN:VCALENDAR
VERSION:2.0
PRODID:-//ChamberMaster//Event Calendar 2.0//EN
METHOD:PUBLISH
X-PUBLISHED-TTL:P3D
REFRESH-INTERVAL:P3D
CALSCALE:GREGORIAN
BEGIN:VEVENT
DTSTART:20110430T150000Z
DTEND:20110430T210000Z
X-MICROSOFT-CDO-ALLDAYEVENT:FALSE
SUMMARY:Kids In The Square
DESCRIPTION:The Lincoln Square Chamber of Commerce is excited to announce the return of "Kids in the Square." On Saturday\, April 30th\, 2011 the Lincoln Square community will be transformed into a playground\, filling the business district with the laughter and smiles of the childern of Lincoln Square.
X-ALT-DESC;FMTTYPE=text/html:The Lincoln Square Chamber of Commerce is excited to announce the return of &quot\;Kids in the Square.&quot\; On Saturday\, April 30th\, 2011 the Lincoln Square community will be transformed into a playground\, filling the business district with the laughter and smiles of the childern of Lincoln Square. 
LOCATION:Various establishments in Lincoln Square.
UID:e.697.786
SEQUENCE:3
DTSTAMP:20260420T193723Z
URL:https://www.lincolnsquare.org/events/details/kids-in-the-square-786
END:VEVENT

END:VCALENDAR
