BEGIN:VCALENDAR
VERSION:2.0
PRODID:-//ChamberMaster//Event Calendar 2.0//EN
METHOD:PUBLISH
X-PUBLISHED-TTL:P3D
REFRESH-INTERVAL:P3D
CALSCALE:GREGORIAN
BEGIN:VEVENT
DTSTART:20111030T210000Z
DTEND:20111030T230000Z
X-MICROSOFT-CDO-ALLDAYEVENT:FALSE
SUMMARY:Kids Science Labs - Hands-On Halloween Party!
DESCRIPTION:Come spend a scientifically spooky evening with Kids Science Labs!\n\n	\n\n	On the night of Sunday October 30th from 4-6 PM our classrooms will be haunted by demos and hands-on activities. Refreshments will be served to keep the growling ghouls away. Costumes\, creepy and cute alike\, are welcome!\n\n	\n\n	All scientists will receive a gift bag and science take-aways from the activities. Adults will receive a raffle ticket and be entered for a chance to win free science classes!\n\n	\n\n	Tickets are $20/child and $5/adult and are available for purchase over the phone or in person at KSL. Purchase by Friday\, October 21 for $2 off your ticket price!\n\n	\n\n	Free parking is available in reserved spots at the Whole Foods parking lot.\n\n	See you at the party!\n\n	\n\n	- The KSL team\n\n	\n\n	P.S. If you've never been to see us\, guess what? Every child's first class is free! More information about Kids Science Labs is available at www.kslchicago.com.
X-ALT-DESC;FMTTYPE=text/html:<p>\n	<span style="font-size:14px\;"><span style="font-family:verdana\;">Come spend a scientifically spooky evening with Kids Science Labs!<br />\n	<br />\n	On the night of Sunday October 30th from 4-6 PM our classrooms will be haunted by demos and hands-on activities. Refreshments will be served to keep the growling ghouls away. Costumes\, creepy and cute alike\, are welcome!<br />\n	<br />\n	All scientists will receive a gift bag and science take-aways from the activities. Adults will receive a raffle ticket and be entered for a chance to win free science classes!<br />\n	<br />\n	Tickets are $20/child and $5/adult and are available for purchase over the phone or in person at KSL. Purchase by Friday\, October 21 for $2 off your ticket price!<br />\n	<br />\n	Free parking is available in reserved spots at the Whole Foods parking lot.<br />\n	See you at the party!<br />\n	<br />\n	- The KSL team<br />\n	<br />\n	P.S. If you&#39\;ve never been to see us\, guess what? Every child&#39\;s first class is <strong>free</strong>!&nbsp\;More information about Kids Science Labs is available at www.kslchicago.com.&nbsp\;</span></span></p>\n
LOCATION:1500 N. Kingsbury\, Chicago\, IL 60642
UID:e.697.2155
SEQUENCE:3
DTSTAMP:20260420T094441Z
URL:https://www.lincolnsquare.org/events/details/kids-science-labs-hands-on-halloween-party-2155
END:VEVENT

END:VCALENDAR
