BEGIN:VCALENDAR
VERSION:2.0
PRODID:-//ChamberMaster//Event Calendar 2.0//EN
METHOD:PUBLISH
X-PUBLISHED-TTL:P3D
REFRESH-INTERVAL:P3D
CALSCALE:GREGORIAN
BEGIN:VEVENT
DTSTART;VALUE=DATE:20120806
DTEND;VALUE=DATE:20120811
TRANSP:TRANSPARENT
X-MICROSOFT-CDO-ALLDAYEVENT:TRUE
SUMMARY:Kids Week at Lincoln Square Presbyterian Church
DESCRIPTION:Kids' Week is a time for kids to explore stories from the Bible through music\, storytelling\, games\, and crafts.  We will be meeting Monday\, August 6 - Friday\, August 10 from 10 a.m. to noon at Waters Elementary School (4540 N. Campbell Ave).  For more information contact Erik Borggren at eborggren@lincolnsquareopres.org.
X-ALT-DESC;FMTTYPE=text/html:Kids&#39\; Week is a time for kids to explore stories from the Bible through&nbsp\;music\, storytelling\, games\, and crafts.&nbsp\; We will be meeting Monday\, August 6 - Friday\, August 10 from 10 a.m. to noon at Waters Elementary School (4540 N. Campbell Ave).&nbsp\; For more information contact Erik Borggren at <a href="mailto:eborggren@lincolnsquareopres.org">eborggren@lincolnsquareopres.org</a>.
LOCATION:Waters Elementary School (4540 N. Campbell Ave)
UID:e.697.3604
SEQUENCE:3
DTSTAMP:20260420T172110Z
URL:https://www.lincolnsquare.org/events/details/kids-week-at-lincoln-square-presbyterian-church-3604
END:VEVENT

END:VCALENDAR
