BEGIN:VCALENDAR
VERSION:2.0
PRODID:-//ChamberMaster//Event Calendar 2.0//EN
METHOD:PUBLISH
X-PUBLISHED-TTL:P3D
REFRESH-INTERVAL:P3D
CALSCALE:GREGORIAN
BEGIN:VEVENT
DTSTART:20110830T210000Z
DTEND:20110830T220000Z
X-MICROSOFT-CDO-ALLDAYEVENT:FALSE
SUMMARY:Kids Yoga Class
DESCRIPTION:Join us for a Kids Yoga class hosted by Shawna Schwalb of Positive Caring\, Inc.  She will lead kids through yoga poses in our Creation Station room.  Limit is 12 kids and cost is $12 (includes 1/2 hour of play after the class).  Please RSVP to info@picklesplayroom.com.
X-ALT-DESC;FMTTYPE=text/html:Join us for a Kids Yoga class hosted by Shawna Schwalb of Positive Caring\, Inc. &nbsp\;She will lead kids through yoga poses in our Creation Station room. &nbsp\;Limit is 12 kids and cost is $12 (includes 1/2 hour of play after the class). &nbsp\;Please RSVP to info@picklesplayroom.com.
LOCATION:PIckle's Playroom - Creation Station
UID:e.697.1352
SEQUENCE:3
DTSTAMP:20260420T124515Z
URL:https://www.lincolnsquare.org/events/details/kids-yoga-class-1352
END:VEVENT

END:VCALENDAR
