BEGIN:VCALENDAR
VERSION:2.0
PRODID:-//ChamberMaster//Event Calendar 2.0//EN
METHOD:PUBLISH
X-PUBLISHED-TTL:P3D
REFRESH-INTERVAL:P3D
CALSCALE:GREGORIAN
BEGIN:VEVENT
DTSTART:20120204T183000Z
DTEND:20120204T183000Z
X-MICROSOFT-CDO-ALLDAYEVENT:FALSE
SUMMARY:Kinderfasching - Children's Mardi Gras
DESCRIPTION:The DANK Haus in historic Lincoln Square will present Kinderfasching\, a winter celebration of the 5th season of the year - Carnival season! It's a great way to spend a snowy afternoon and let the kids have a ball.\n\n\n\nEveryone is encouraged to come in costume - we'll have free face painting\, a parade lead by the Prince & Princess\, balloon artists\, treats\, performances by the Paloma band and the Amazonen Dance Corps. Make your own mask with all the glitter and feathers your heart desires.\n\n\n\nRefreshments available\, especially krapfen - a traditional sugar doughnut prepared on site by our Culture Kitchen. Krapfen are 2 for $1. Hotdogs also available.\n\n\n\nYou don't have to be German to enjoy this day of silliness!\n\n\n\nThe event is Saturday February 4\, 2011 from 12:30 pm to 3:00 pm.\n\nChildren 3 to 13 are $4. Guests 14 and over are $5.
X-ALT-DESC;FMTTYPE=text/html:The DANK Haus in historic Lincoln Square will present Kinderfasching\, a winter celebration of the 5th season of the year - Carnival season! It&#39\;s a great way to spend a snowy afternoon and let the kids have a ball.<br />\n<br />\nEveryone is encouraged to come in costume - we&#39\;ll have free face painting\, a parade lead by the Prince &amp\; Princess\, balloon artists\, treats\, performances by the Paloma band and the Amazonen Dance Corps. Make your own mask with all the glitter and feathers your heart desires.<br />\n<br />\nRefreshments available\, especially krapfen - a traditional sugar doughnut prepared on site by our Culture Kitchen. Krapfen are 2 for $1. Hotdogs also available.<br />\n<br />\nYou don&#39\;t have to be German to enjoy this day of silliness!<br />\n<br />\nThe event is Saturday February 4\, 2011 from 12:30 pm to 3:00 pm.<br />\nChildren 3 to 13 are $4. Guests 14 and over are $5.<br />\n
LOCATION:
UID:e.697.2468
SEQUENCE:3
DTSTAMP:20260420T032045Z
URL:https://www.lincolnsquare.org/events/details/kinderfasching-children-s-mardi-gras-2468
END:VEVENT

END:VCALENDAR
