BEGIN:VCALENDAR
VERSION:2.0
PRODID:-//ChamberMaster//Event Calendar 2.0//EN
METHOD:PUBLISH
X-PUBLISHED-TTL:P3D
REFRESH-INTERVAL:P3D
CALSCALE:GREGORIAN
BEGIN:VEVENT
DTSTART:20120204T013000Z
DTEND:20120204T033000Z
X-MICROSOFT-CDO-ALLDAYEVENT:FALSE
SUMMARY:Kulturkueche - Cooking Series - Krapfen Class
DESCRIPTION:WITH BAKER CAROL HIMMEL\n\nProfessional chefs guide you through schnitzel\, krapfen\, rouladen\, potato pancakes.\n\nKrapfen are a traditional Karneval & Lenten doughnut - also known as a Berliner. These fried little delights are often filled with fruit or Nutella Nominal class fee includes recipes\, demonstration\, tasting and drink.\n\n\n\nWe know your Oma made it better - that was the love.
X-ALT-DESC;FMTTYPE=text/html:WITH BAKER CAROL HIMMEL<br />\nProfessional chefs guide you through schnitzel\, krapfen\, rouladen\, potato pancakes.<br />\nKrapfen are a traditional Karneval &amp\; Lenten doughnut - also known as a Berliner. These fried little delights are often filled with fruit or Nutella Nominal class fee includes recipes\, demonstration\, tasting and drink.<br />\n<br />\nWe know your Oma made it better - that was the love.
LOCATION:
UID:e.697.2469
SEQUENCE:3
DTSTAMP:20260420T032327Z
URL:https://www.lincolnsquare.org/events/details/kulturkueche-cooking-series-krapfen-class-2469
END:VEVENT

END:VCALENDAR
