BEGIN:VCALENDAR
VERSION:2.0
PRODID:-//ChamberMaster//Event Calendar 2.0//EN
METHOD:PUBLISH
X-PUBLISHED-TTL:P3D
REFRESH-INTERVAL:P3D
CALSCALE:GREGORIAN
BEGIN:VEVENT
DTSTART:20120310T013000Z
DTEND:20120310T040000Z
X-MICROSOFT-CDO-ALLDAYEVENT:FALSE
SUMMARY:Kulturkueche - Sausage making
DESCRIPTION:Are you ready to grind a whole pork shoulder?\n\nChef Martin of Alpine Brand Sausages will guide you through the art of Wurst. Plenty of hands on opportunities.\n\n\n\nNominal class fee includes demonstration\, recipes\, one drink and tasting\n\n\n\nWe know your Oma made it better - that was the love
X-ALT-DESC;FMTTYPE=text/html:Are you ready to grind a whole pork shoulder?<br />\nChef Martin of Alpine Brand Sausages will guide you through the art of Wurst. Plenty of hands on opportunities.<br />\n<br />\nNominal class fee includes demonstration\, recipes\, one drink and tasting<br />\n<br />\nWe know your Oma made it better - that was the love
LOCATION:
UID:e.697.2472
SEQUENCE:3
DTSTAMP:20260420T015009Z
URL:https://www.lincolnsquare.org/events/details/kulturkueche-sausage-making-2472
END:VEVENT

END:VCALENDAR
