BEGIN:VCALENDAR
VERSION:2.0
PRODID:-//ChamberMaster//Event Calendar 2.0//EN
METHOD:PUBLISH
X-PUBLISHED-TTL:P3D
REFRESH-INTERVAL:P3D
CALSCALE:GREGORIAN
BEGIN:VEVENT
DTSTART:20120414T003000Z
DTEND:20120414T030000Z
X-MICROSOFT-CDO-ALLDAYEVENT:FALSE
SUMMARY:Kulturkueche: Sausage Making at DANK Haus German American Cultural Center
DESCRIPTION:Are you ready to grind a whole pork shoulder?\n\nChef Martin of Alpine Brand Sausages will guide you through the art of Wurst. Plenty of hands on opportunities.
X-ALT-DESC;FMTTYPE=text/html:Are you ready to grind a whole pork shoulder?<br />\nChef Martin of Alpine Brand Sausages will guide you through the art of Wurst. Plenty of hands on opportunities.
LOCATION:DANK Haus German American Cultural Center 4740 N. Western Ave. Chicago\, IL 60625
UID:e.697.2507
SEQUENCE:3
DTSTAMP:20260420T015723Z
URL:https://www.lincolnsquare.org/events/details/kulturkueche-sausage-making-at-dank-haus-german-american-cultural-center-2507
END:VEVENT

END:VCALENDAR
