BEGIN:VCALENDAR
VERSION:2.0
PRODID:-//ChamberMaster//Event Calendar 2.0//EN
METHOD:PUBLISH
X-PUBLISHED-TTL:P3D
REFRESH-INTERVAL:P3D
CALSCALE:GREGORIAN
BEGIN:VEVENT
DTSTART:20100807T003000Z
DTEND:20100807T023000Z
X-MICROSOFT-CDO-ALLDAYEVENT:FALSE
SUMMARY:KulturKüche
DESCRIPTION:Join Chef Dustin in the DANK kitchens\n\nAttendees receive instructions\, recipes\, tasting and one drink $12 class fee\n\nSpace is limited -Reserve today
X-ALT-DESC;FMTTYPE=text/html:Join Chef Dustin in the DANK kitchens\n<br>Attendees receive instructions\, recipes\, tasting and one drink $12 class fee\n<br>Space is limited -Reserve today
LOCATION:4740 N Western Ave
UID:e.697.585
SEQUENCE:3
DTSTAMP:20260421T081916Z
URL:https://www.lincolnsquare.org/events/details/kulturk&#252;che-585
END:VEVENT

END:VCALENDAR
