BEGIN:VCALENDAR
VERSION:2.0
PRODID:-//ChamberMaster//Event Calendar 2.0//EN
METHOD:PUBLISH
X-PUBLISHED-TTL:P3D
REFRESH-INTERVAL:P3D
CALSCALE:GREGORIAN
BEGIN:VEVENT
DTSTART:20110305T013000Z
DTEND:20110305T043000Z
X-MICROSOFT-CDO-ALLDAYEVENT:FALSE
SUMMARY:KULTURKÜCHE - COOKING CLASS -SAUSAGE MAKING
DESCRIPTION:WITH CHEF MARTIN WALLNER\n\n\n\nProfessional chefs guide you through schnitzel\, krapfen\, rouladen\, potato pancakes. We know your Oma made it better - that was the love. Nominal class fee includes recipes\, demonstration\, tasting and drink.
X-ALT-DESC;FMTTYPE=text/html:WITH CHEF MARTIN WALLNER\n<br>\n<br>Professional chefs guide you through schnitzel\, krapfen\, rouladen\, potato pancakes. We know your Oma made it better - that was the love. Nominal class fee includes recipes\, demonstration\, tasting and drink.
LOCATION:Dank Haus 4740 N Western Ave
UID:e.697.730
SEQUENCE:3
DTSTAMP:20260420T205234Z
URL:https://www.lincolnsquare.org/events/details/kulturk&#252;che-cooking-class-sausage-making-730
END:VEVENT

END:VCALENDAR
