BEGIN:VCALENDAR
VERSION:2.0
PRODID:-//ChamberMaster//Event Calendar 2.0//EN
METHOD:PUBLISH
X-PUBLISHED-TTL:P3D
REFRESH-INTERVAL:P3D
CALSCALE:GREGORIAN
BEGIN:VEVENT
DTSTART:20111105T003000Z
DTEND:20111105T023000Z
X-MICROSOFT-CDO-ALLDAYEVENT:FALSE
SUMMARY:KulturKüche - Schnitzel Class
DESCRIPTION:Join Chef Christoph in the DANK kitchens to learn the Art of the Schnitzel -\n\nAttendees receive instructions\, recipes\, tasting and one drink $18 class fee\n\nSpace is limited -Reserve today dank@dankhaus.com
X-ALT-DESC;FMTTYPE=text/html:Join Chef Christoph in the DANK kitchens to learn the Art of the Schnitzel -<br />\nAttendees receive instructions\, recipes\, tasting and one drink $18 class fee<br />\nSpace is limited -Reserve today dank@dankhaus.com
LOCATION:4740 N Western Ave FREE Parking courtesy of MB Financial Bank lot at Western & Gunnison
UID:e.697.2175
SEQUENCE:3
DTSTAMP:20260420T081802Z
URL:https://www.lincolnsquare.org/events/details/kulturk&#252;che-schnitzel-class-2175
END:VEVENT

END:VCALENDAR
