BEGIN:VCALENDAR
VERSION:2.0
PRODID:-//ChamberMaster//Event Calendar 2.0//EN
METHOD:PUBLISH
X-PUBLISHED-TTL:P3D
REFRESH-INTERVAL:P3D
CALSCALE:GREGORIAN
BEGIN:VEVENT
DTSTART:20110402T003000Z
DTEND:20110402T030000Z
X-MICROSOFT-CDO-ALLDAYEVENT:FALSE
SUMMARY:KulturKüche - Spätzle 3 Ways
DESCRIPTION:Join Ingrid to learn how to make your own spaetzle on a basket\, with a press and on a board. Dress it up with cheese or gray or spin it in the frying pan!\n\n\n\nClass fee $18 includes\, demonstration\, recipes\, tasting and 1 beverage.
X-ALT-DESC;FMTTYPE=text/html:	\n<br>Join Ingrid to learn how to make your own spaetzle on a basket\, with a press and on a board. Dress it up with cheese or gray or spin it in the frying pan!\n<br>\n<br>Class fee $18 includes\, demonstration\, recipes\, tasting and 1 beverage.
LOCATION:DANK-HAUS German Cultural Center 4740 N Western Ave
UID:e.697.789
SEQUENCE:3
DTSTAMP:20260420T193841Z
URL:https://www.lincolnsquare.org/events/details/kulturk&#252;che-sp&#228;tzle-3-ways-789
END:VEVENT

END:VCALENDAR
