BEGIN:VCALENDAR
VERSION:2.0
PRODID:-//ChamberMaster//Event Calendar 2.0//EN
METHOD:PUBLISH
X-PUBLISHED-TTL:P3D
REFRESH-INTERVAL:P3D
CALSCALE:GREGORIAN
BEGIN:VEVENT
DTSTART:20111203T013000Z
DTEND:20111203T034500Z
X-MICROSOFT-CDO-ALLDAYEVENT:FALSE
SUMMARY:KulturKüche - Stollen Class
DESCRIPTION:Ingrid of recent Spaetzle fame returns to sweeten your holidays through the magic of Stollen\n\n\n\nJoin her in the DANK kitchens to learn why this treat is so beloved it commands its own festival every winter at the Dresden Christmas market.\n\nAttendees receive instructions\, recipes\, tasting and one drink $18 class fee\n\nSpace is limited -Reserve today dank@dankhaus.com
X-ALT-DESC;FMTTYPE=text/html:Ingrid of recent Spaetzle fame returns to sweeten your holidays through the magic of Stollen<br />\n<br />\nJoin her in the DANK kitchens to learn why this treat is so beloved it commands its own festival every winter at the Dresden Christmas market.<br />\nAttendees receive instructions\, recipes\, tasting and one drink $18 class fee<br />\nSpace is limited -Reserve today dank@dankhaus.com
LOCATION:4740 N Western Ave FREE parking courtesy of MB Financial Bank at Western & Gunnison
UID:e.697.2176
SEQUENCE:3
DTSTAMP:20260420T060819Z
URL:https://www.lincolnsquare.org/events/details/kulturk&#252;che-stollen-class-2176
END:VEVENT

END:VCALENDAR
